BEGIN:VCALENDAR
VERSION:2.0
PRODID:-//The Steampunk Buddha - ECPv6.15.11//NONSGML v1.0//EN
CALSCALE:GREGORIAN
METHOD:PUBLISH
X-WR-CALNAME:The Steampunk Buddha
X-ORIGINAL-URL:https://thesteampunkbuddha.com
X-WR-CALDESC:Events for The Steampunk Buddha
REFRESH-INTERVAL;VALUE=DURATION:PT1H
X-Robots-Tag:noindex
X-PUBLISHED-TTL:PT1H
BEGIN:VTIMEZONE
TZID:UTC
BEGIN:STANDARD
TZOFFSETFROM:+0000
TZOFFSETTO:+0000
TZNAME:UTC
DTSTART:20240101T000000
END:STANDARD
END:VTIMEZONE
BEGIN:VEVENT
DTSTART;TZID=UTC:20251204T080000
DTEND;TZID=UTC:20251204T130000
DTSTAMP:20260419T190154
CREATED:20251129T151538Z
LAST-MODIFIED:20251129T151538Z
UID:27189-1764835200-1764853200@thesteampunkbuddha.com
SUMMARY:Eureka Springs Holiday Market December 4th
DESCRIPTION:Eureka Springs Holiday Market\nWe are super excited to be a part of this year’s Eureka Springs Holiday Market. We will be at the Community Center with many other vendors on December 4th\, 11th\, and 18th\, from 8 am to 1 pm with custom handmade Christmas gifts for everyone. I will also have handmade cards featuring my paintings. Come by and support local artists\, local farmers\, and growers\, and give someone something truly unique this holiday season! This event is put on by the Eureka Springs Farmers Market\, which takes place every Thursday\, on the Community Center Lawn. \n \n  \n  \n  \n  \n  \n \n  \nInfo on event from Eureka Springs Farmers Market: \n Holiday Market   \nJoin us for our Annual Holiday Farmers’ Market!\nYour regular Farmers’ Market Vendors will be joined by local craftspeople and artists to bring you beautiful\, handmade gifts for the Holidays!\nSupport the local economy\, and shop for everyone on your list at the Farmers’ Market!\nThe most wonderful time of the year is almost here — and so are our Annual Holiday Farmers’ Market Days! December 4\, 11 & 18 8:00AM – 1:00PM Eureka Springs Community Center Lawn \n44 Kings Hwy\, Eureka Springs\, AR\, United States\, 72632We’re looking for local farmers\, makers\, and artists to help fill the market with holiday spirit! From handmade gifts and festive foods to winter produce and decor — we can’t wait to celebrate with our community. 
URL:https://thesteampunkbuddha.com/event/eureka-springs-holiday-market/
LOCATION:Eureka Springs Community Center\, 44 Kingshighway\, Eureka Springs\, AR\, 72632\, United States
CATEGORIES:Upcoming Events
END:VEVENT
BEGIN:VEVENT
DTSTART;TZID=UTC:20251211T080000
DTEND;TZID=UTC:20251211T130000
DTSTAMP:20260419T190154
CREATED:20251129T152057Z
LAST-MODIFIED:20251129T152204Z
UID:27195-1765440000-1765458000@thesteampunkbuddha.com
SUMMARY:Eureka Springs Holiday Market December 11th
DESCRIPTION:Eureka Springs Holiday Market\nWe are super excited to be a part of this year’s Eureka Springs Holiday Market. We will be at the Community Center with many other vendors on December 4th\, 11th\, and 18th\, from 8 am to 1 pm with custom handmade Christmas gifts for everyone. I will also have handmade cards featuring my paintings. Come by and support local artists\, local farmers\, and growers\, and give someone something truly unique this holiday season! This event is put on by the Eureka Springs Farmers Market\, which takes place every Thursday\, on the Community Center Lawn. \n \n \n  \n  \n  \n  \n  \n  \n  \n  \n  \n  \n  \n  \n  \n  \n  \n  \n  \n  \nInfo on event from Eureka Springs Farmers Market: \n Holiday Market   \nJoin us for our Annual Holiday Farmers’ Market!\nYour regular Farmers’ Market Vendors will be joined by local craftspeople and artists to bring you beautiful\, handmade gifts for the Holidays!\nSupport the local economy\, and shop for everyone on your list at the Farmers’ Market!\nThe most wonderful time of the year is almost here — and so are our Annual Holiday Farmers’ Market Days! December 4\, 11 & 18 8:00AM – 1:00PM Eureka Springs Community Center Lawn \n44 Kings Hwy\, Eureka Springs\, AR\, United States\, 72632We’re looking for local farmers\, makers\, and artists to help fill the market with holiday spirit! From handmade gifts and festive foods to winter produce and decor — we can’t wait to celebrate with our community. ar
URL:https://thesteampunkbuddha.com/event/eureka-springs-holiday-market-december-11th/
LOCATION:Eureka Springs Community Center\, 44 Kingshighway\, Eureka Springs\, AR\, 72632\, United States
CATEGORIES:Upcoming Events
END:VEVENT
BEGIN:VEVENT
DTSTART;TZID=UTC:20251218T080000
DTEND;TZID=UTC:20251218T130000
DTSTAMP:20260419T190154
CREATED:20251129T153105Z
LAST-MODIFIED:20251129T153106Z
UID:27200-1766044800-1766062800@thesteampunkbuddha.com
SUMMARY:Eureka Springs Holiday Market December 18th
DESCRIPTION:Eureka Springs Holiday Market\nWe are super excited to be a part of this year’s Eureka Springs Holiday Market. We will be at the Community Center with many other vendors on December 4th\, 11th\, and 18th\, from 8 am to 1 pm with custom handmade Christmas gifts for everyone. I will also have handmade cards featuring my paintings. Come by and support local artists\, local farmers\, and growers\, and give someone something truly unique this holiday season! This event is put on by the Eureka Springs Farmers Market\, which takes place every Thursday\, on the Community Center Lawn. \n  \n \n  \n  \n  \n  \n  \n \n  \nInfo on event from Eureka Springs Farmers Market: \n Holiday Market   \nJoin us for our Annual Holiday Farmers’ Market!\nYour regular Farmers’ Market Vendors will be joined by local craftspeople and artists to bring you beautiful\, handmade gifts for the Holidays!\nSupport the local economy\, and shop for everyone on your list at the Farmers’ Market!\nThe most wonderful time of the year is almost here — and so are our Annual Holiday Farmers’ Market Days! December 4\, 11 & 18 8:00AM – 1:00PM Eureka Springs Community Center Lawn \n44 Kings Hwy\, Eureka Springs\, AR\, United States\, 72632We’re looking for local farmers\, makers\, and artists to help fill the market with holiday spirit! From handmade gifts and festive foods to winter produce and decor — we can’t wait to celebrate with our community. 
URL:https://thesteampunkbuddha.com/event/eureka-springs-holiday-market-december-18th/
LOCATION:Eureka Springs Community Center\, 44 Kingshighway\, Eureka Springs\, AR\, 72632\, United States
CATEGORIES:Upcoming Events
END:VEVENT
BEGIN:VEVENT
DTSTART;TZID=UTC:20260304T170000
DTEND;TZID=UTC:20260304T200000
DTSTAMP:20260419T190154
CREATED:20260210T174010Z
LAST-MODIFIED:20260325T192351Z
UID:27780-1772643600-1772654400@thesteampunkbuddha.com
SUMMARY:Everything’s Elemental:  “The 12 Forces of Nature”
DESCRIPTION:Everything’s Elemental: “The 12 Forces of Nature”\nYou are invited to BREWS newest art exhibition\, Everything’s Elemental: “The 12 Forces of Nature\,” which will open with an artist’s reception on Wednesday\, March 4th\, from 5 to 8 p.m. \n The “12 elements of nature” refers to concepts in fantasy\, spirituality\, or simplified worldviews\, commonly including Earth\, Water\, Wind/Air\, Fire\, Thunder\, Ice\, Force\, Time\, Flower\, Shadow\, Light\, and the Moon\, which represent fundamental aspects of life and the universe. These elements can be expanded to include concepts such as spirit\, energy\, consciousness\, space\, and nature’s cycles to deepen meaning.  \nArtists were asked to incorporate at least one of these elements (but preferably more than one) into their piece. \n Curated by Becky Stracener Epp\, this exhibition features works in multiple forms by more than 40 talented local artists. \nBREWS is a unique coffee\, craft beer\, and art gallery that showcases rotating art exhibitions every six weeks. Come see their newly renovated space\, which remains a hub for artistic expression and community engagement. Get into your element and join us for an evening of art\, conversations\, friends\, and fun. \n \n 
URL:https://thesteampunkbuddha.com/event/everythings-elemental-the-12-forces-of-nature/
LOCATION:Brews\, 2 Pine\, Eureka Springs\, AR\, 72632-3524\, United States
CATEGORIES:Upcoming Events
ORGANIZER;CN="Becky Stracener Epp":MAILTO:becky@thesteampunkbuddha.com
END:VEVENT
BEGIN:VEVENT
DTSTART;VALUE=DATE:20260404
DTEND;VALUE=DATE:20260405
DTSTAMP:20260419T190154
CREATED:20260114T163214Z
LAST-MODIFIED:20260114T163215Z
UID:27493-1775260800-1775347199@thesteampunkbuddha.com
SUMMARY:Spring Diversity Weekend 2026
DESCRIPTION:Spring Diversity Weekend 2026\n  \n \n  \n \nThe Steampunk Buddha is so excited to be a returning vendor at this spring’s Spring Diversity Weekend. Hosted by Out in Eureka\, this is an amazing community gathering that is fun for everyone. We will be there\, with custom handmade jewelry and art. We hope to see you all there. \n\n  \n \n(INFO from Out in Eureka’s Facebook Page) \n Save the Dates! Diversity Weekends 2026 are HERE! Eureka Springs\, ArkansasWe are thrilled to announce the official dates for Diversity Weekends in 2026 – your favorite celebration of community\, color\, inclusion\, and pure queer joy. Spring Diversity WeekendFriday April 3 – Sunday April 5 Headliner announcement coming soon — stay tuned! Fall Diversity WeekendFriday November 6 – Sunday November 8Both weekends will be packed with events all across town: drag shows\, live music\, meetups\, sober spaces\, family friendly activities\, advocacy events\, and so much more. Whether you are LGBTQ+ or an ally\, everyone is welcome in the most inclusive little town in Arkansas.RSVP and get updates at: www.outineureka.org/eventsMark your calendars\, book your stay\, and get ready to celebrate with us. We cannot wait to see you in Eureka Springs!  \n  \n \n  \n \n  \n 
URL:https://thesteampunkbuddha.com/event/spring-diversity-weekend-2026/
LOCATION:Eureka Springs Community Center\, 44 Kingshighway\, Eureka Springs\, AR\, 72632\, United States
CATEGORIES:Upcoming Events
END:VEVENT
BEGIN:VEVENT
DTSTART;TZID=UTC:20260425T090000
DTEND;TZID=UTC:20260425T200000
DTSTAMP:20260419T190154
CREATED:20260107T183725Z
LAST-MODIFIED:20260325T171938Z
UID:27378-1777107600-1777147200@thesteampunkbuddha.com
SUMMARY:Goggles Gears & Springs 2026
DESCRIPTION:Goggles Gears & Springs 2026\n  \nJoin Eureka Springs for the 2nd annual celebration of fantastical science-fiction influenced by the Victorian Era and inspired by the works of Jules Verne\, H. G. Wells\, and Mary Shelley. This festival is being produced by Steampunk Inn Projects and is sponsored in part by the Eureka Springs CAPC.Visit www.steampunkinnprojects.com for more information. \n \n  \nThe Steampunk Buddha is very excited to be a returning vendor at this event in our hometown! We will be set up in Basin Park along with other steampunk vendors. I will be making BRAND NEW\, never-before-seen pieces that you will only see at this event! We will have handmade jewelry\, paintings\, home decor\, steampunk teddy bears\, and Erik will have some custom sterling silver jewelry there as well. We can not wait to see you. Come see us in the big black-and-white tent. Come see the parade and enjoy our town. This is a free event! Come support local artists!!! \n  \n(SOME PHOTOS FROM LAST YEAR) \n \n 
URL:https://thesteampunkbuddha.com/event/goggles-gears-springs-2026/
LOCATION:Basin Park\, 12 Spring Street\, Eureka Springs\, AR\, 72632\, United States
CATEGORIES:Upcoming and Past Events,Upcoming Events
ORGANIZER;CN="Steampunk Inn Projects":MAILTO:steampunkinnprojects@yahoo.com
END:VEVENT
BEGIN:VEVENT
DTSTART;TZID=UTC:20260515T160000
DTEND;TZID=UTC:20260515T220000
DTSTAMP:20260419T190154
CREATED:20260418T181429Z
LAST-MODIFIED:20260418T181558Z
UID:27889-1778860800-1778882400@thesteampunkbuddha.com
SUMMARY:White Street Studio Walk 2026
DESCRIPTION:White Street Studio Walk 2026\nWe are very excited to be back in Zeek Taylor‘s driveway\, along with the wonderful Gina Gallina! This is an amazing evening of art\, crafts\, local artists\, snacks\, drinks\, and more. Come out to White Street and become part of history. Zeek recently told me that this is the 36th annual White Street Walk. I feel honored and lucky to be included in this event. I will have custom-made jewelry\, new paintings\, and more at this event. Erik is already making new sterling silver pieces. Come party with Zeek\, Gina\, and us\, and all of the other artists who will be there waiting to see you! \n \nAbout the Event: \nThis event was created by Zeek Taylor over 35 years ago and is still created by him and his husband\, Dick every year. The White Street Studio Walk will take place on Friday\, May 15th. 2026\, from 4 p.m. until 10 p.m.\, Eureka Springs\, Arkansas. Historic White Street is the working address of several local artists who will welcome the public into homes and studios to view their latest works. They will be joined by more than forty guest artists from the Eureka Springs area\, who will show paintings\, jewelry\, prints\, pottery\, photography\, crochet art\, and much more. White Street is located on the upper historic loop. The event is free to the public. \n  \nFACEBOOK EVENT \n  \n \n  \nZeek makes the best cookies for the White Street Studio Walk! His husband and Zeek work tirelessly for months in advance to put this amazing event together. We are all grateful to him. \n\nHere are some pictures of a few of the pieces of jewelry we will have and more!!
URL:https://thesteampunkbuddha.com/event/white-street-studio-walk-2026/
LOCATION:White Street Eureka Springs\, White Street\, Eureka Srpings\, AR\, 72632\, United States
CATEGORIES:Upcoming Events
END:VEVENT
BEGIN:VEVENT
DTSTART;TZID=UTC:20260724T080000
DTEND;TZID=UTC:20260725T210000
DTSTAMP:20260419T190154
CREATED:20260323T171716Z
LAST-MODIFIED:20260323T171716Z
UID:27809-1784880000-1785013200@thesteampunkbuddha.com
SUMMARY:ObscuraCon 2026
DESCRIPTION:ObscuraCon 2026\n\n\n\n\n\n\n\n\n\n\nThe Steampunk Buddha is very excited to be a vendor at ObscuraCon 2026 here in our spooky little corner of the Ozarks. We will have custom-themed jewelry\, gothic items\, custom artwork and prints\, and more at our table. With over 30 vendors\, speakers\, and more\, this should be a great event. Check out the Facebook Event HERE \n\n\n\n \n\n \n\n\n\n\n\n\n\n\n\n\nRead about the event here: \n\n\nA Summit on the Unexplained\nObscuraCon is a two-day convention that brings together scholars\, storytellers\, investigators\, researchers\, and curious minds to explore the edges of knowledge about extraterrestrials\, paranormal phenomena\, cryptozoology\, and parapsychology. \nThe weekend features: \n\n\nKeynote talks on UFOs\, Cryptids\, and the Paranormal \n\n\nHands-on workshops led by experts \n\n\n30+ vendors \n\n\n“First Contact” Ball and costume party \n\n\nExclusive paranormal investigations \n\n\n\n\n\n\n\nComing July 24 and 25\, 2026: ObscuraCon in Eureka Springs\, Arkansas. \n\n\n\nObscuraCon is a gathering for those interested in the strange\, fringe\, and unexplained. Held in the Victorian mountain town of Eureka Springs\, this two-day convention brings together scholars\, storytellers\, investigators\, researchers\, and curious minds to explore the edges of knowledge through new theories\, evidence\, and personal experiences.\n\nObscuraCon is designed to be an immersive\, intellectually engaging\, and fun experience featuring:\n\n– Keynote Talks & Plenary Sessions from leading practitioners and researchers in the fields of UAP\, paranormal phenomena\, cryptids and regional folklore\, and parapsychology.\n\n– Hands-On Workshops exploring investigative methods and field techniques.\n\n– A Vendor Hall featuring occult artisans\, authors\, investigators\, oddities dealers\, indie creators\, and more.\n\n– A “First Contact Ball” Saturday night with a DJ\, drinks\, and a costume contest.\n\n– Nighttime Investigations at local sites with long histories of hauntings and paranormal activity\n\nDiscounted hotel rooms are available for July 23-26. Call Inn of the Ozarks and mention “Obscura Con” to get the discounted rate.\n\nFind out more at www.eurekaobscuracon.com\n\nGet Tickets here
URL:https://thesteampunkbuddha.com/event/obscuracon-2026/
LOCATION:Best Western Inn of the Ozarks\, 207 W Van Buren\, Eureka Springs\, AR\, 72632\, United States
CATEGORIES:Upcoming and Past Events,Upcoming Events
ORGANIZER;CN="Obscuracon":MAILTO:eurekaobscuracon@gmail.com
END:VEVENT
END:VCALENDAR